Package: rDGIdb Version: 1.30.0 Command: chmod a+r rDGIdb -R && E:\biocbuild\bbs-3.19-bioc\R\bin\R.exe CMD build --keep-empty-dirs --no-resave-data rDGIdb StartedAt: 2024-10-16 21:25:37 -0400 (Wed, 16 Oct 2024) EndedAt: 2024-10-16 21:26:09 -0400 (Wed, 16 Oct 2024) EllapsedTime: 31.7 seconds RetCode: 1 Status: ERROR PackageFile: None PackageFileSize: NA