Package: rDGIdb Version: 1.29.2 Command: rm -rf rDGIdb.buildbin-libdir && mkdir rDGIdb.buildbin-libdir && /Users/biocbuild/BBS/utils/build-universal.sh rDGIdb_1.29.2.tar.gz /Library/Frameworks/R.framework/Resources/bin/R rDGIdb.buildbin-libdir StartedAt: 2024-03-02 14:13:25 -0500 (Sat, 02 Mar 2024) EndedAt: 2024-03-02 14:13:31 -0500 (Sat, 02 Mar 2024) EllapsedTime: 6.5 seconds RetCode: 0 Status: OK PackageFile: rDGIdb_1.29.2.tgz PackageFileSize: 228.6 KiB