Package: rCGH Version: 1.34.0 Command: E:\biocbuild\bbs-3.19-bioc\R\bin\R.exe CMD INSTALL rCGH StartedAt: 2024-10-16 17:03:35 -0400 (Wed, 16 Oct 2024) EndedAt: 2024-10-16 17:04:35 -0400 (Wed, 16 Oct 2024) EllapsedTime: 60.7 seconds RetCode: 0 Status: OK