Package: rCGH Version: 1.34.0 Command: rm -rf rCGH.buildbin-libdir && mkdir rCGH.buildbin-libdir && E:\biocbuild\bbs-3.19-bioc\R\bin\R.exe CMD INSTALL --build --library=rCGH.buildbin-libdir rCGH_1.34.0.tar.gz StartedAt: 2024-10-17 08:26:17 -0400 (Thu, 17 Oct 2024) EndedAt: 2024-10-17 08:27:36 -0400 (Thu, 17 Oct 2024) EllapsedTime: 79.6 seconds RetCode: 0 Status: OK PackageFile: rCGH_1.34.0.zip PackageFileSize: 4.776 MiB