Package: rCGH Version: 1.34.0 Command: /Library/Frameworks/R.framework/Resources/bin/R CMD INSTALL rCGH StartedAt: 2024-10-16 18:05:47 -0400 (Wed, 16 Oct 2024) EndedAt: 2024-10-16 18:06:42 -0400 (Wed, 16 Oct 2024) EllapsedTime: 55.0 seconds RetCode: 0 Status: OK