Package: rBiopaxParser Version: 2.44.0 Command: E:\biocbuild\bbs-3.19-bioc\R\bin\R.exe CMD INSTALL rBiopaxParser StartedAt: 2024-10-16 15:59:53 -0400 (Wed, 16 Oct 2024) EndedAt: 2024-10-16 16:00:21 -0400 (Wed, 16 Oct 2024) EllapsedTime: 28.0 seconds RetCode: 0 Status: OK