Package: rBiopaxParser Version: 2.44.0 Command: chmod a+r rBiopaxParser -R && E:\biocbuild\bbs-3.19-bioc\R\bin\R.exe CMD build --keep-empty-dirs --no-resave-data rBiopaxParser StartedAt: 2024-10-16 21:23:57 -0400 (Wed, 16 Oct 2024) EndedAt: 2024-10-16 21:24:14 -0400 (Wed, 16 Oct 2024) EllapsedTime: 17.0 seconds RetCode: 0 Status: OK PackageFile: rBiopaxParser_2.44.0.tar.gz PackageFileSize: 770 KiB