Package: rBiopaxParser Version: 2.44.0 Command: /Library/Frameworks/R.framework/Resources/bin/R CMD INSTALL rBiopaxParser StartedAt: 2024-10-16 15:06:46 -0400 (Wed, 16 Oct 2024) EndedAt: 2024-10-16 15:06:53 -0400 (Wed, 16 Oct 2024) EllapsedTime: 7.1 seconds RetCode: 0 Status: OK