Package: rBiopaxParser Version: 2.44.0 Command: /Library/Frameworks/R.framework/Resources/bin/R CMD build --keep-empty-dirs --no-resave-data rBiopaxParser StartedAt: 2024-10-16 22:24:08 -0400 (Wed, 16 Oct 2024) EndedAt: 2024-10-16 22:24:33 -0400 (Wed, 16 Oct 2024) EllapsedTime: 24.5 seconds RetCode: 0 Status: OK PackageFile: rBiopaxParser_2.44.0.tar.gz PackageFileSize: 897.8 KiB