Package: rBiopaxParser Version: 2.44.0 Command: /Library/Frameworks/R.framework/Resources/bin/R CMD check --install=check:rBiopaxParser.install-out.txt --library=/Library/Frameworks/R.framework/Resources/library --no-vignettes --timings rBiopaxParser_2.44.0.tar.gz StartedAt: 2024-06-09 22:28:40 -0400 (Sun, 09 Jun 2024) EndedAt: 2024-06-09 22:29:44 -0400 (Sun, 09 Jun 2024) EllapsedTime: 64.4 seconds RetCode: 0 Status: OK CheckDir: rBiopaxParser.Rcheck Warnings: 0