Package: rBiopaxParser Version: 2.44.0 Command: /Library/Frameworks/R.framework/Resources/bin/R CMD build --keep-empty-dirs --no-resave-data rBiopaxParser StartedAt: 2024-06-09 17:50:49 -0400 (Sun, 09 Jun 2024) EndedAt: 2024-06-09 17:51:02 -0400 (Sun, 09 Jun 2024) EllapsedTime: 12.3 seconds RetCode: 0 Status: OK PackageFile: rBiopaxParser_2.44.0.tar.gz PackageFileSize: 896.7 KiB