Package: rBiopaxParser Version: 2.44.0 Command: rm -rf rBiopaxParser.buildbin-libdir && mkdir rBiopaxParser.buildbin-libdir && /Users/biocbuild/BBS/utils/build-universal.sh rBiopaxParser_2.44.0.tar.gz /Library/Frameworks/R.framework/Resources/bin/R rBiopaxParser.buildbin-libdir StartedAt: 2024-06-10 00:34:14 -0400 (Mon, 10 Jun 2024) EndedAt: 2024-06-10 00:34:22 -0400 (Mon, 10 Jun 2024) EllapsedTime: 7.9 seconds RetCode: 0 Status: OK PackageFile: rBiopaxParser_2.44.0.tgz PackageFileSize: 858.8 KiB