Package: rBiopaxParser Version: 2.44.0 Command: /home/biocbuild/R/R-beta-2024-04-15_r86425/bin/R CMD check --install=check:rBiopaxParser.install-out.txt --library=/home/biocbuild/R/R-beta-2024-04-15_r86425/site-library --no-vignettes --timings rBiopaxParser_2.44.0.tar.gz StartedAt: 2024-05-09 10:59:23 -0000 (Thu, 09 May 2024) EndedAt: 2024-05-09 11:00:18 -0000 (Thu, 09 May 2024) EllapsedTime: 55.1 seconds RetCode: 0 Status: OK CheckDir: rBiopaxParser.Rcheck Warnings: 0