Package: rBiopaxParser Version: 2.44.0 Command: /home/biocbuild/R/R-beta-2024-04-15_r86425/bin/R CMD build --keep-empty-dirs --no-resave-data rBiopaxParser StartedAt: 2024-05-09 02:49:56 -0000 (Thu, 09 May 2024) EndedAt: 2024-05-09 02:50:06 -0000 (Thu, 09 May 2024) EllapsedTime: 10.0 seconds RetCode: 0 Status: OK PackageFile: rBiopaxParser_2.44.0.tar.gz PackageFileSize: 890.6 KiB