Package: rBiopaxParser Version: 2.44.0 Command: /Library/Frameworks/R.framework/Resources/bin/R CMD build --keep-empty-dirs --no-resave-data rBiopaxParser StartedAt: 2024-10-17 07:13:21 -0400 (Thu, 17 Oct 2024) EndedAt: 2024-10-17 07:13:36 -0400 (Thu, 17 Oct 2024) EllapsedTime: 15.6 seconds RetCode: 0 Status: OK PackageFile: rBiopaxParser_2.44.0.tar.gz PackageFileSize: 897.6 KiB