Package: rBLAST Version: 1.0.0 Command: E:\biocbuild\bbs-3.19-bioc\R\bin\R.exe CMD INSTALL rBLAST StartedAt: 2024-10-16 16:13:14 -0400 (Wed, 16 Oct 2024) EndedAt: 2024-10-16 16:13:27 -0400 (Wed, 16 Oct 2024) EllapsedTime: 12.3 seconds RetCode: 0 Status: OK