Package: rBLAST Version: 1.0.0 Command: chmod a+r rBLAST -R && E:\biocbuild\bbs-3.19-bioc\R\bin\R.exe CMD build --keep-empty-dirs --no-resave-data rBLAST StartedAt: 2024-10-16 21:23:58 -0400 (Wed, 16 Oct 2024) EndedAt: 2024-10-16 21:24:15 -0400 (Wed, 16 Oct 2024) EllapsedTime: 17.0 seconds RetCode: 0 Status: OK PackageFile: rBLAST_1.0.0.tar.gz PackageFileSize: 23.94 KiB