Package: rBLAST Version: 1.0.0 Command: rm -rf rBLAST.buildbin-libdir && mkdir rBLAST.buildbin-libdir && E:\biocbuild\bbs-3.19-bioc\R\bin\R.exe CMD INSTALL --build --library=rBLAST.buildbin-libdir rBLAST_1.0.0.tar.gz StartedAt: 2024-10-17 08:25:49 -0400 (Thu, 17 Oct 2024) EndedAt: 2024-10-17 08:26:05 -0400 (Thu, 17 Oct 2024) EllapsedTime: 15.7 seconds RetCode: 0 Status: OK PackageFile: rBLAST_1.0.0.zip PackageFileSize: 52.81 KiB