Package: rBLAST Version: 1.0.0 Command: /Library/Frameworks/R.framework/Resources/bin/R CMD build --keep-empty-dirs --no-resave-data rBLAST StartedAt: 2024-10-16 22:24:33 -0400 (Wed, 16 Oct 2024) EndedAt: 2024-10-16 22:25:10 -0400 (Wed, 16 Oct 2024) EllapsedTime: 36.8 seconds RetCode: 0 Status: OK PackageFile: rBLAST_1.0.0.tar.gz PackageFileSize: 23.76 KiB