Package: rBLAST Version: 1.0.0 Command: rm -rf rBLAST.buildbin-libdir && mkdir rBLAST.buildbin-libdir && /Users/biocbuild/BBS/utils/build-universal.sh rBLAST_1.0.0.tar.gz /Library/Frameworks/R.framework/Resources/bin/R rBLAST.buildbin-libdir StartedAt: 2024-06-11 12:42:37 -0400 (Tue, 11 Jun 2024) EndedAt: 2024-06-11 12:42:56 -0400 (Tue, 11 Jun 2024) EllapsedTime: 18.7 seconds RetCode: 0 Status: OK PackageFile: rBLAST_1.0.0.tgz PackageFileSize: 47.28 KiB