Package: rBLAST Version: 1.0.0 Command: /Library/Frameworks/R.framework/Resources/bin/R CMD INSTALL rBLAST StartedAt: 2024-10-16 16:14:20 -0400 (Wed, 16 Oct 2024) EndedAt: 2024-10-16 16:14:31 -0400 (Wed, 16 Oct 2024) EllapsedTime: 10.4 seconds RetCode: 0 Status: OK