Package: rBLAST Version: 1.0.0 Command: /Library/Frameworks/R.framework/Resources/bin/R CMD build --keep-empty-dirs --no-resave-data rBLAST StartedAt: 2024-10-17 07:13:24 -0400 (Thu, 17 Oct 2024) EndedAt: 2024-10-17 07:13:44 -0400 (Thu, 17 Oct 2024) EllapsedTime: 20.1 seconds RetCode: 0 Status: OK PackageFile: rBLAST_1.0.0.tar.gz PackageFileSize: 23.7 KiB