Package: rBLAST Version: 1.0.0 Maintainer: Michael Hahsler MaintainerEmail: mhahsler at lyle.smu.edu git_url: https://git.bioconductor.org/packages/rBLAST git_branch: RELEASE_3_19 git_last_commit: 9c3df75 git_last_commit_date: 2024-04-30 11:56:18 -0400 (Tue, 30 Apr 2024)