Package: r3Cseq Version: 1.50.0 Command: F:\biocbuild\bbs-3.19-bioc\R\bin\R.exe CMD INSTALL r3Cseq StartedAt: 2024-06-26 16:04:13 -0400 (Wed, 26 Jun 2024) EndedAt: 2024-06-26 16:05:20 -0400 (Wed, 26 Jun 2024) EllapsedTime: 67.5 seconds RetCode: 0 Status: OK