Package: r3Cseq Version: 1.50.0 Command: F:\biocbuild\bbs-3.19-bioc\R\bin\R.exe CMD check --no-multiarch --install=check:r3Cseq.install-out.txt --library=F:\biocbuild\bbs-3.19-bioc\R\library --no-vignettes --timings r3Cseq_1.50.0.tar.gz StartedAt: 2024-06-27 05:06:25 -0400 (Thu, 27 Jun 2024) EndedAt: 2024-06-27 05:11:35 -0400 (Thu, 27 Jun 2024) EllapsedTime: 309.9 seconds RetCode: 0 Status: OK CheckDir: r3Cseq.Rcheck Warnings: 0