Package: r3Cseq Version: 1.50.0 Command: chmod a+r r3Cseq -R && F:\biocbuild\bbs-3.19-bioc\R\bin\R.exe CMD build --keep-empty-dirs --no-resave-data r3Cseq StartedAt: 2024-06-26 21:12:21 -0400 (Wed, 26 Jun 2024) EndedAt: 2024-06-26 21:18:06 -0400 (Wed, 26 Jun 2024) EllapsedTime: 344.4 seconds RetCode: 0 Status: OK PackageFile: r3Cseq_1.50.0.tar.gz PackageFileSize: 4.161 MiB