Package: r3Cseq Version: 1.50.0 Command: /home/biocbuild/bbs-3.19-bioc/R/bin/R CMD INSTALL r3Cseq StartedAt: 2024-10-16 16:05:42 -0400 (Wed, 16 Oct 2024) EndedAt: 2024-10-16 16:06:21 -0400 (Wed, 16 Oct 2024) EllapsedTime: 38.9 seconds RetCode: 0 Status: OK