Package: r3Cseq Version: 1.50.0 Command: /home/biocbuild/bbs-3.19-bioc/R/bin/R CMD build --keep-empty-dirs --no-resave-data r3Cseq StartedAt: 2024-10-16 20:17:15 -0400 (Wed, 16 Oct 2024) EndedAt: 2024-10-16 20:19:03 -0400 (Wed, 16 Oct 2024) EllapsedTime: 108.2 seconds RetCode: 0 Status: OK PackageFile: r3Cseq_1.50.0.tar.gz PackageFileSize: 4.158 MiB