Package: r3Cseq Version: 1.50.0 Command: /Library/Frameworks/R.framework/Resources/bin/R CMD INSTALL r3Cseq StartedAt: 2024-10-16 15:36:00 -0400 (Wed, 16 Oct 2024) EndedAt: 2024-10-16 15:37:39 -0400 (Wed, 16 Oct 2024) EllapsedTime: 99.4 seconds RetCode: 0 Status: OK