Package: r3Cseq Version: 1.50.0 Command: /Library/Frameworks/R.framework/Resources/bin/R CMD check --install=check:r3Cseq.install-out.txt --library=/Library/Frameworks/R.framework/Resources/library --no-vignettes --timings r3Cseq_1.50.0.tar.gz StartedAt: 2024-10-17 11:26:25 -0400 (Thu, 17 Oct 2024) EndedAt: 2024-10-17 11:36:26 -0400 (Thu, 17 Oct 2024) EllapsedTime: 601.0 seconds RetCode: 0 Status: OK CheckDir: r3Cseq.Rcheck Warnings: 0