Package: r3Cseq Version: 1.50.0 Command: /Library/Frameworks/R.framework/Resources/bin/R CMD build --keep-empty-dirs --no-resave-data r3Cseq StartedAt: 2024-10-16 22:20:55 -0400 (Wed, 16 Oct 2024) EndedAt: 2024-10-16 22:25:16 -0400 (Wed, 16 Oct 2024) EllapsedTime: 261.0 seconds RetCode: 0 Status: OK PackageFile: r3Cseq_1.50.0.tar.gz PackageFileSize: 4.327 MiB