Package: r3Cseq Version: 1.50.0 Command: rm -rf r3Cseq.buildbin-libdir && mkdir r3Cseq.buildbin-libdir && /Users/biocbuild/BBS/utils/build-universal.sh r3Cseq_1.50.0.tar.gz /Library/Frameworks/R.framework/Resources/bin/R r3Cseq.buildbin-libdir StartedAt: 2024-10-17 16:55:14 -0400 (Thu, 17 Oct 2024) EndedAt: 2024-10-17 16:57:05 -0400 (Thu, 17 Oct 2024) EllapsedTime: 110.8 seconds RetCode: 0 Status: OK PackageFile: r3Cseq_1.50.0.tgz PackageFileSize: 2.941 MiB