Package: r3Cseq Version: 1.50.0 Command: /home/biocbuild/R/R-beta-2024-04-15_r86425/bin/R CMD check --install=check:r3Cseq.install-out.txt --library=/home/biocbuild/R/R-beta-2024-04-15_r86425/site-library --no-vignettes --timings r3Cseq_1.50.0.tar.gz StartedAt: 2024-05-09 10:56:38 -0000 (Thu, 09 May 2024) EndedAt: 2024-05-09 11:02:02 -0000 (Thu, 09 May 2024) EllapsedTime: 323.7 seconds RetCode: 0 Status: OK CheckDir: r3Cseq.Rcheck Warnings: 0