Package: r3Cseq Version: 1.50.0 Command: /home/biocbuild/R/R-beta-2024-04-15_r86425/bin/R CMD build --keep-empty-dirs --no-resave-data r3Cseq StartedAt: 2024-05-09 02:45:50 -0000 (Thu, 09 May 2024) EndedAt: 2024-05-09 02:48:22 -0000 (Thu, 09 May 2024) EllapsedTime: 152.2 seconds RetCode: 0 Status: OK PackageFile: r3Cseq_1.50.0.tar.gz PackageFileSize: 4.317 MiB