Package: r3Cseq Version: 1.50.0 Command: /Library/Frameworks/R.framework/Resources/bin/R CMD INSTALL r3Cseq StartedAt: 2024-06-09 15:45:27 -0400 (Sun, 09 Jun 2024) EndedAt: 2024-06-09 15:46:33 -0400 (Sun, 09 Jun 2024) EllapsedTime: 65.8 seconds RetCode: 0 Status: OK