Package: r3Cseq Version: 1.50.0 Command: /Library/Frameworks/R.framework/Resources/bin/R CMD check --install=check:r3Cseq.install-out.txt --library=/Library/Frameworks/R.framework/Resources/library --no-vignettes --timings r3Cseq_1.50.0.tar.gz StartedAt: 2024-10-18 08:36:42 -0400 (Fri, 18 Oct 2024) EndedAt: 2024-10-18 08:41:49 -0400 (Fri, 18 Oct 2024) EllapsedTime: 307.5 seconds RetCode: 0 Status: OK CheckDir: r3Cseq.Rcheck Warnings: 0