Package: r3Cseq Version: 1.50.0 Command: rm -rf r3Cseq.buildbin-libdir && mkdir r3Cseq.buildbin-libdir && /Users/biocbuild/BBS/utils/build-universal.sh r3Cseq_1.50.0.tar.gz /Library/Frameworks/R.framework/Resources/bin/R r3Cseq.buildbin-libdir StartedAt: 2024-10-18 20:07:06 -0400 (Fri, 18 Oct 2024) EndedAt: 2024-10-18 20:08:08 -0400 (Fri, 18 Oct 2024) EllapsedTime: 62.7 seconds RetCode: 0 Status: OK PackageFile: r3Cseq_1.50.0.tgz PackageFileSize: 2.94 MiB