Package: qvalue Version: 2.36.0 Command: chmod a+r qvalue -R && F:\biocbuild\bbs-3.19-bioc\R\bin\R.exe CMD build --keep-empty-dirs --no-resave-data qvalue StartedAt: 2024-06-26 21:12:08 -0400 (Wed, 26 Jun 2024) EndedAt: 2024-06-26 21:12:33 -0400 (Wed, 26 Jun 2024) EllapsedTime: 24.9 seconds RetCode: 0 Status: OK PackageFile: qvalue_2.36.0.tar.gz PackageFileSize: 2.641 MiB