Package: qvalue Version: 2.36.0 Command: /home/biocbuild/bbs-3.19-bioc/R/bin/R CMD build --keep-empty-dirs --no-resave-data qvalue StartedAt: 2024-10-16 20:17:04 -0400 (Wed, 16 Oct 2024) EndedAt: 2024-10-16 20:17:15 -0400 (Wed, 16 Oct 2024) EllapsedTime: 11.0 seconds RetCode: 0 Status: OK PackageFile: qvalue_2.36.0.tar.gz PackageFileSize: 2.64 MiB