Package: qvalue Version: 2.36.0 Command: /Library/Frameworks/R.framework/Resources/bin/R CMD INSTALL qvalue StartedAt: 2024-10-16 15:24:14 -0400 (Wed, 16 Oct 2024) EndedAt: 2024-10-16 15:24:35 -0400 (Wed, 16 Oct 2024) EllapsedTime: 20.3 seconds RetCode: 0 Status: OK