Package: qvalue Version: 2.36.0 Command: /Library/Frameworks/R.framework/Resources/bin/R CMD build --keep-empty-dirs --no-resave-data qvalue StartedAt: 2024-06-09 17:49:32 -0400 (Sun, 09 Jun 2024) EndedAt: 2024-06-09 17:49:53 -0400 (Sun, 09 Jun 2024) EllapsedTime: 21.5 seconds RetCode: 0 Status: OK PackageFile: qvalue_2.36.0.tar.gz PackageFileSize: 2.645 MiB