Package: qvalue Version: 2.36.0 Command: /home/biocbuild/R/R-beta-2024-04-15_r86425/bin/R CMD build --keep-empty-dirs --no-resave-data qvalue StartedAt: 2024-05-09 02:45:42 -0000 (Thu, 09 May 2024) EndedAt: 2024-05-09 02:45:56 -0000 (Thu, 09 May 2024) EllapsedTime: 14.0 seconds RetCode: 0 Status: OK PackageFile: qvalue_2.36.0.tar.gz PackageFileSize: 2.631 MiB