Package: qvalue Version: 2.36.0 Command: /Library/Frameworks/R.framework/Resources/bin/R CMD INSTALL qvalue StartedAt: 2024-10-16 16:10:41 -0400 (Wed, 16 Oct 2024) EndedAt: 2024-10-16 16:10:50 -0400 (Wed, 16 Oct 2024) EllapsedTime: 8.7 seconds RetCode: 0 Status: OK