Package: qvalue Version: 2.36.0 Command: rm -rf qvalue.buildbin-libdir && mkdir qvalue.buildbin-libdir && /Users/biocbuild/BBS/utils/build-universal.sh qvalue_2.36.0.tar.gz /Library/Frameworks/R.framework/Resources/bin/R qvalue.buildbin-libdir StartedAt: 2024-10-18 20:07:05 -0400 (Fri, 18 Oct 2024) EndedAt: 2024-10-18 20:07:13 -0400 (Fri, 18 Oct 2024) EllapsedTime: 8.0 seconds RetCode: 0 Status: OK PackageFile: qvalue_2.36.0.tgz PackageFileSize: 2.681 MiB