Package: qusage Version: 2.38.0 Command: rm -rf qusage.buildbin-libdir && mkdir qusage.buildbin-libdir && F:\biocbuild\bbs-3.19-bioc\R\bin\R.exe CMD INSTALL --build --library=qusage.buildbin-libdir qusage_2.38.0.tar.gz StartedAt: 2024-06-27 08:43:52 -0400 (Thu, 27 Jun 2024) EndedAt: 2024-06-27 08:44:16 -0400 (Thu, 27 Jun 2024) EllapsedTime: 23.4 seconds RetCode: 0 Status: OK PackageFile: qusage_2.38.0.zip PackageFileSize: 9.665 MiB