Package: qusage Version: 2.38.0 Command: /Library/Frameworks/R.framework/Resources/bin/R CMD check --install=check:qusage.install-out.txt --library=/Library/Frameworks/R.framework/Resources/library --no-vignettes --timings qusage_2.38.0.tar.gz StartedAt: 2024-10-17 11:25:32 -0400 (Thu, 17 Oct 2024) EndedAt: 2024-10-17 11:28:57 -0400 (Thu, 17 Oct 2024) EllapsedTime: 205.9 seconds RetCode: 0 Status: OK CheckDir: qusage.Rcheck Warnings: 0