Package: qusage Version: 2.38.0 Command: /home/biocbuild/R/R-beta-2024-04-15_r86425/bin/R CMD INSTALL qusage StartedAt: 2024-05-08 20:09:15 -0000 (Wed, 08 May 2024) EndedAt: 2024-05-08 20:09:37 -0000 (Wed, 08 May 2024) EllapsedTime: 22.6 seconds RetCode: 0 Status: OK