Package: qusage Version: 2.38.0 Command: /Library/Frameworks/R.framework/Resources/bin/R CMD build --keep-empty-dirs --no-resave-data qusage StartedAt: 2024-06-10 02:58:57 -0400 (Mon, 10 Jun 2024) EndedAt: 2024-06-10 03:08:01 -0400 (Mon, 10 Jun 2024) EllapsedTime: 544.1 seconds RetCode: 0 Status: OK PackageFile: qusage_2.38.0.tar.gz PackageFileSize: 9.67 MiB