Package: qusage Version: 2.38.0 Command: /Library/Frameworks/R.framework/Resources/bin/R CMD check --install=check:qusage.install-out.txt --library=/Library/Frameworks/R.framework/Resources/library --no-vignettes --timings qusage_2.38.0.tar.gz StartedAt: 2024-10-18 08:36:22 -0400 (Fri, 18 Oct 2024) EndedAt: 2024-10-18 08:38:07 -0400 (Fri, 18 Oct 2024) EllapsedTime: 105.0 seconds RetCode: 0 Status: OK CheckDir: qusage.Rcheck Warnings: 0