Package: qusage Version: 2.38.0 Maintainer: Christopher Bolen MaintainerEmail: cbolen1 at gmail.com git_url: https://git.bioconductor.org/packages/qusage git_branch: RELEASE_3_19 git_last_commit: 479c861 git_last_commit_date: 2024-04-30 10:33:11 -0400 (Tue, 30 Apr 2024)